{"text_format":"1","workbook":"xlsx","n_sheets":2,"sheets":["曲げ耐力","比較"],"not_rendered":{"charts":4,"images":0,"macros":1,"external_links":0,"defined_names":27,"comments":0,"pivot_tables":0},"unopened":[],"bounds":{"document_bytes":16777216,"sheet_cells":100000,"rows_first":2000,"rows_last":500,"rows_between":2000,"halvings":0,"cell_chars":16384,"cell_head_chars":4096},"cells_cut":0,"cells_raw":0,"read":"whole","date_system":"1900"}

{"sheet":"曲げ耐力","index":0,"n_rows":75,"n_cols":16,"rows_kept":75,"cut":false,"hidden":false,"merged":[]}
[]
[null,null,null,null,"数式解"]
[null,"断面高さh(cm)",30,null,"軸力N(kNm)","N/(bhσ0)","r","X(cm)","M(kNm)","k(=X/h)","f(k)","Nc0(kN)","yG0(cm)","r1","Nc1(kN)","yG1(cm)"]
[null,"断面幅b(cm)",100,null,0,{"$f":"E4/($C$3*$C$4/10000*($C$5*1000)*$C$6)","v":0},{"$f":"IF(F4<(1/3),3/2*(1-SQRT(1-8/3*F4)),IF(F4<(3*$C$7-1)/6/$C$7,1/3/(1-2*F4),\"-\"))","v":0},{"$f":"IF(F4<(3*$C$7-1)/6/$C$7,$C$3/2,IF(F4<(3*$C$7-1)/3/$C$7,3*$C$7*E4/($C$4/100)/($C$6*$C$5*1000)/(3*$C$7-1)*100,J4*$C$3))","v":15},{"$f":"IF(F4<(1/3),$C$4/100*($C$3/100)^2*$C$6*$C$5*1000/48*G4*(8-3*G4),IF(F4<(3*$C$7-1)/6/$C$7,$C$4/100*($C$3/100)^2*$C$6*$C$5*1000/48*(6*G4^2-1)/G4^2,IF(F4<(3*$C$7-1)/3/$C$7,$C$4/100*$C$6*$C$5*1000*(6*$C$7^2-1)/12/$C$7^2*(H4/100)^2+E4*($C$3/2/100-H4/100),L4*M4/100-O4*P4/100-E4*(H4/100-$C$3/2/100))))","v":0},{"$f":"IF(F4<(3*$C$7-1)/3/$C$7,\"-\",0)","v":"-"},{"$f":"IF(F4>(3*$C$7-1)/3/$C$7,($C$7-1)^3*J4^3+3*($C$7^2*(2-$C$7)-$C$7*F4)*J4^2+3*$C$7^2*($C$7-1)*J4-$C$7^3,\"-\")","v":"-"},{"$f":"IF(F4>(3*$C$7-1)/3/$C$7,$C$4/100*H4/100*$C$6*$C$5*1000/3/$C$7*(3*$C$7-1),\"-\")","v":"-"},{"$f":"IF(F4>(3*$C$7-1)/3/$C$7,(6*$C$7^2-1)/4/$C$7/(3*$C$7-1)*H4,\"-\")","v":"-"},{"$f":"IF(F4>(3*$C$7-1)/3/$C$7,$C$7*(H4-$C$3)/H4,\"-\")","v":"-"},{"$f":"IF(F4>(3*$C$7-1)/3/$C$7,$C$4/100*(H4/100-$C$3/100)*$C$6*$C$5*1000/3*N4*(3-N4),\"-\")","v":"-"},{"$f":"IF(F4>(3*$C$7-1)/3/$C$7,(8-3*N4)/4/(3-N4)*(H4-$C$3),\"-\")","v":"-"}]
[null,"コンクリート強度fc(N/mm2)",{"$f":"18/1.3","v":13.846153846153845},null,{"$f":"E4+50","v":50},{"$f":"E5/($C$3*$C$4/10000*($C$5*1000)*$C$6)","v":1.4161220043572988E-2},{"$f":"IF(F5<(1/3),3/2*(1-SQRT(1-8/3*F5)),IF(F5<(3*$C$7-1)/6/$C$7,1/3/(1-2*F5),\"-\"))","v":2.8594998058467214E-2},{"$f":"IF(F5<(3*$C$7-1)/6/$C$7,$C$3/2,IF(F5<(3*$C$7-1)/3/$C$7,3*$C$7*E5/($C$4/100)/($C$6*$C$5*1000)/(3*$C$7-1)*100,J5*$C$3))","v":15},{"$f":"IF(F5<(1/3),$C$4/100*($C$3/100)^2*$C$6*$C$5*1000/48*G5*(8-3*G5),IF(F5<(3*$C$7-1)/6/$C$7,$C$4/100*($C$3/100)^2*$C$6*$C$5*1000/48*(6*G5^2-1)/G5^2,IF(F5<(3*$C$7-1)/3/$C$7,$C$4/100*$C$6*$C$5*1000*(6*$C$7^2-1)/12/$C$7^2*(H5/100)^2+E5*($C$3/2/100-H5/100),L5*M5/100-O5*P5/100-E5*(H5/100-$C$3/2/100))))","v":4.9939853793828624},{"$f":"IF(F5<(3*$C$7-1)/3/$C$7,\"-\",0)","v":"-"},{"$f":"IF(F5>(3*$C$7-1)/3/$C$7,($C$7-1)^3*J5^3+3*($C$7^2*(2-$C$7)-$C$7*F5)*J5^2+3*$C$7^2*($C$7-1)*J5-$C$7^3,\"-\")","v":"-"},{"$f":"IF(F5>(3*$C$7-1)/3/$C$7,$C$4/100*H5/100*$C$6*$C$5*1000/3/$C$7*(3*$C$7-1),\"-\")","v":"-"},{"$f":"IF(F5>(3*$C$7-1)/3/$C$7,(6*$C$7^2-1)/4/$C$7/(3*$C$7-1)*H5,\"-\")","v":"-"},{"$f":"IF(F5>(3*$C$7-1)/3/$C$7,$C$7*(H5-$C$3)/H5,\"-\")","v":"-"},{"$f":"IF(F5>(3*$C$7-1)/3/$C$7,$C$4/100*(H5/100-$C$3/100)*$C$6*$C$5*1000/3*N5*(3-N5),\"-\")","v":"-"},{"$f":"IF(F5>(3*$C$7-1)/3/$C$7,(8-3*N5)/4/(3-N5)*(H5-$C$3),\"-\")","v":"-"}]
[null,"強度に係る係数k1",0.85,null,{"$f":"E5+50","v":100},{"$f":"E6/($C$3*$C$4/10000*($C$5*1000)*$C$6)","v":2.8322440087145975E-2},5.7756830670665227E-2,15,9.9754622462579139,"-","-","-","-","-","-","-"]
[null,"εzに対するεcuの比ru",{"$f":"0.0035/0.002","v":1.75},null,150,4.2483660130718963E-2,8.7520605737667345E-2,15,14.943655863769752,"-","-","-","-","-","-","-"]
[null,null,null,null,200,5.6644880174291951E-2,0.11792521224274971,15,19.89770805675855,"-","-","-","-","-","-","-"]
[null,"Nmax(kNm)",{"$f":"0.85*C5*1000*C3*C4/10000","v":3530.7692307692305},null,250,7.0806100217864945E-2,0.14901391617351945,15,24.836664061363209,"-","-","-","-","-","-","-"]
[null,null,null,null,300,8.4967320261437926E-2,0.18083508292883543,15,29.759456583445417,"-","-","-","-","-","-","-"]
[null,null,null,null,350,9.912854030501092E-2,0.21344306065765806,15,34.66488630567958,"-","-","-","-","-","-","-"]
[null,null,null,null,400,0.1132897603485839,0.24689927064561307,15,39.55159782565692,"-","-","-","-","-","-","-"]
[null,null,null,null,450,0.12745098039215688,0.28127356734701991,15,44.418049643640281,"-","-","-","-","-","-","-"]
[null,null,null,null,500,0.14161220043572989,0.31664595433757836,15,49.262476296108261,"-","-","-","-","-","-","-"]
[null,null,null,null,550,0.15577342047930287,0.35310877711781979,15,54.082839966486596,"-","-","-","-","-","-","-"]
[null,null,null,null,600,0.16993464052287585,0.39076956548120945,15,58.876767761736787,"-","-","-","-","-","-","-"]
[null,null,null,null,650,0.18409586056644883,0.42975477735179446,15,63.641469095938781,"-","-","-","-","-","-","-"]
[null,null,null,null,700,0.19825708061002184,0.47021482029509232,15,68.373624879065048,"-","-","-","-","-","-","-"]
[null,null,null,null,750,0.21241830065359482,0.51233092785162548,15,73.069235774812711,"-","-","-","-","-","-","-"]
[null,null,null,null,800,0.2265795206971678,0.55632480385622451,15,77.723409376441992,"-","-","-","-","-","-","-"]
[null,null,null,null,850,0.24074074074074078,0.60247253214424934,15,82.330053257009126,"-","-","-","-","-","-","-"]
[null,null,null,null,900,0.25490196078431376,0.65112531237283466,15,86.881417385618718,"-","-","-","-","-","-","-"]
[null,null,null,null,950,0.26906318082788677,0.70274162592502076,15,91.367384312519988,"-","-","-","-","-","-","-"]
[null,null,null,null,1000,0.28322440087145978,0.75793962862093123,15,95.774313003028524,"-","-","-","-","-","-","-"]
[null,null,null,null,1050,0.29738562091503273,0.81758789979235891,15,100.08303624977442,"-","-","-","-","-","-","-"]
[null,null,null,null,1100,0.31154684095860574,0.88297572637021349,15,104.26510296134964,"-","-","-","-","-","-","-"]
[null,null,null,null,1150,0.32570806100217869,0.95616948045652317,15,108.27491386877193,"-","-","-","-","-","-","-"]
[null,null,null,null,1200,0.3398692810457517,1.0408163265306127,15,112.03337104072401,"-","-","-","-","-","-","-"]
[null,null,null,null,1250,0.35403050108932471,1.1417910447761201,15,115.47699849170441,"-","-","-","-","-","-","-"]
[null,null,null,null,1300,0.36819172113289766,1.2644628099173558,15,118.60199849170439,"-","-","-","-","-","-","-"]
[null,null,null,null,1350,0.38235294117647067,1.4166666666666676,15,121.40837104072401,"-","-","-","-","-","-","-"]
[null,null,null,null,1400,0.39651416122004368,1.6105263157894754,15,123.89611613876322,"-","-","-","-","-","-","-"]
[null,null,null,null,1450,0.41067538126361663,"-",15.219146482122262,125.70552615509872,"-","-","-","-","-","-","-"]
[null,null,null,null,1500,0.42483660130718964,"-",15.743944636678203,126.76572359047424,"-","-","-","-","-","-","-"]
[null,null,null,null,1550,0.4389978213507626,"-",16.268742791234143,127.60762263382861,"-","-","-","-","-","-","-"]
[null,null,null,null,1600,0.4531590413943356,"-",16.793540945790085,128.2312232851618,"-","-","-","-","-","-","-"]
[null,null,null,null,1650,0.46732026143790861,"-",17.318339100346023,128.63652554447384,"-","-","-","-","-","-","-"]
[null,null,null,null,1700,0.48148148148148157,"-",17.843137254901965,128.82352941176467,"-","-","-","-","-","-","-"]
[null,null,null,null,1750,0.49564270152505457,"-",18.367935409457903,128.7922348870344,"-","-","-","-","-","-","-"]
[null,null,null,null,1800,0.50980392156862753,"-",18.892733564013845,128.54264197028289,"-","-","-","-","-","-","-"]
[null,null,null,null,1850,0.52396514161220054,"-",19.417531718569784,128.07475066151025,"-","-","-","-","-","-","-"]
[null,null,null,null,1900,0.53812636165577354,"-",19.942329873125722,127.38856096071646,"-","-","-","-","-","-","-"]
[null,null,null,null,1950,0.55228758169934655,"-",20.467128027681664,126.48407286790146,"-","-","-","-","-","-","-"]
[null,null,null,null,2000,0.56644880174291956,"-",20.991926182237606,125.36128638306533,"-","-","-","-","-","-","-"]
[null,null,null,null,2050,0.58061002178649246,"-",21.516724336793544,124.02020150620802,"-","-","-","-","-","-","-"]
[null,null,null,null,2100,0.59477124183006547,"-",22.041522491349482,122.46081823732953,"-","-","-","-","-","-","-"]
[null,null,null,null,2150,0.60893246187363848,"-",22.566320645905424,120.68313657642986,"-","-","-","-","-","-","-"]
[null,null,null,null,2200,0.62309368191721148,"-",23.091118800461366,118.687156523509,"-","-","-","-","-","-","-"]
[null,null,null,null,2250,0.63725490196078449,"-",23.615916955017305,116.47287807856705,"-","-","-","-","-","-","-"]
[null,null,null,null,2300,0.65141612200435739,"-",24.140715109573243,114.04030124160388,"-","-","-","-","-","-","-"]
[null,null,null,null,2350,0.6655773420479304,"-",24.665513264129181,111.38942601261959,"-","-","-","-","-","-","-"]
[null,null,null,null,2400,0.67973856209150341,"-",25.190311418685123,108.52025239161406,"-","-","-","-","-","-","-"]
[null,null,null,null,2450,0.69389978213507642,"-",25.715109573241062,105.43278037858738,"-","-","-","-","-","-","-"]
[null,null,null,null,2500,0.70806100217864942,"-",26.239907727797,102.1270099735396,"-","-","-","-","-","-","-"]
[null,null,null,null,{"$f":"E54+50","v":2550},0.72222222222222232,"-",26.764705882352946,98.602941176470551,"-","-","-","-","-","-","-"]
[null,null,null,null,2600,0.73638344226579533,"-",27.289504036908884,94.860573987380462,"-","-","-","-","-","-","-"]
[null,null,null,null,2650,0.75054466230936834,"-",27.814302191464829,90.899908406269049,"-","-","-","-","-","-","-"]
[null,null,null,null,2700,0.76470588235294135,"-",28.339100346020764,86.720944433136481,"-","-","-","-","-","-","-"]
[null,null,null,null,2750,0.77886710239651435,"-",28.863898500576703,82.323682067982872,"-","-","-","-","-","-","-"]
[null,null,null,null,2800,0.79302832244008736,"-",29.388696655132645,77.708121310808053,"-","-","-","-","-","-","-"]
[null,null,null,null,2850,0.80718954248366026,"-",29.913494809688583,72.87426216161208,"-","-","-","-","-","-","-"]
[null,null,null,null,2900,0.82135076252723327,"-",30.452723825769532,67.888412827612115,1.0150907941923177,1.0956713545340335E-6,2901.3748963672733,17.785414335218341,2.6016283457253597E-2,1.3741812445815214,0.30148584977696918]
[null,null,null,null,2950,0.83551198257080628,"-",31.036489757831809,62.870372670999814,1.0345496585943936,4.25554069405365E-6,2956.9930351692506,18.126353261926983,5.8442726299225062E-2,6.9903611649931428,0.68927709426887118]
[null,null,null,null,3000,0.84967320261437929,"-",31.673057934549433,57.819614769976909,1.0557685978183144,1.3222860175687856E-6,3017.6418933246541,18.498130474379714,9.2439807722757505E-2,17.641095517448154,1.1109393409444437]
[null,null,null,null,3050,0.86383442265795229,"-",32.372520831265014,52.73322313950348,1.0790840277088338,3.3845034881352376E-6,3084.2830286490948,18.906640317419484,0.12825419053260459,34.281073884486517,1.5728506832281257]
[null,null,null,null,3100,0.87799564270152519,"-",33.147953138291541,47.606796703762029,1.1049317712763846,1.256082439837769E-6,3158.1621286701939,19.359518849674473,0.16619179980818957,58.161436748015497,2.0832508275825123]
[null,null,null,null,{"$f":"E66+50","v":3150},0.8921568627450982,"-",34.017201445275134,42.435701736801889,1.1339067148425044,2.7365315213856434E-6,3240.9795223135761,19.867189079383376,0.20666316541474167,90.978090930655625,2.6533667990522902]
[null,null,null,null,3200,0.90631808278867121,"-",35.005128564734477,37.213535034438905,1.1668376188244824,4.1400582766470961E-6,3335.1040072115156,20.444171724781903,0.25021976342944974,135.10196220055604,3.298798371149338]
[null,null,null,null,3250,0.92047930283224422,{"$f":"IF(F69<(1/3),3/2*(1-SQRT(1-8/3*F69)),IF(F69<(3*$C$7-1)/6/$C$7,1/3/(1-2*F69),\"-\"))","v":"-"},{"$f":"IF(F69<(3*$C$7-1)/6/$C$7,$C$3/2,IF(F69<(3*$C$7-1)/3/$C$7,3*$C$7*E69/($C$4/100)/($C$6*$C$5*1000)/(3*$C$7-1)*100,J69*$C$3))","v":36.14815847962587},{"$f":"IF(F69<(1/3),$C$4/100*($C$3/100)^2*$C$6*$C$5*1000/48*G69*(8-3*G69),IF(F69<(3*$C$7-1)/6/$C$7,$C$4/100*($C$3/100)^2*$C$6*$C$5*1000/48*(6*G69^2-1)/G69^2,IF(F69<(3*$C$7-1)/3/$C$7,$C$4/100*$C$6*$C$5*1000*(6*$C$7^2-1)/12/$C$7^2*(H69/100)^2+E69*($C$3/2/100-H69/100),L69*M69/100-O69*P69/100-E69*(H69/100-$C$3/2/100))))","v":31.932084278371121},1.204938615987529,{"$f":"IF(F69>(3*$C$7-1)/3/$C$7,($C$7-1)^3*J69^3+3*($C$7^2*(2-$C$7)-$C$7*F69)*J69^2+3*$C$7^2*($C$7-1)*J69-$C$7^3,\"-\")","v":3.3566607084978273E-6},{"$f":"IF(F69>(3*$C$7-1)/3/$C$7,$C$4/100*H69/100*$C$6*$C$5*1000/3/$C$7*(3*$C$7-1),\"-\")","v":3444.0058683335856},{"$f":"IF(F69>(3*$C$7-1)/3/$C$7,(6*$C$7^2-1)/4/$C$7/(3*$C$7-1)*H69,\"-\")","v":21.111739616252084},{"$f":"IF(F69>(3*$C$7-1)/3/$C$7,$C$7*(H69-$C$3)/H69,\"-\")","v":0.2976438577198755},{"$f":"IF(F69>(3*$C$7-1)/3/$C$7,$C$4/100*(H69/100-$C$3/100)*$C$6*$C$5*1000/3*N69*(3-N69),\"-\")","v":194.00431348669582},{"$f":"IF(F69>(3*$C$7-1)/3/$C$7,(8-3*N69)/4/(3-N69)*(H69-$C$3),\"-\")","v":4.0423412675070063}]
[null,null,null,null,{"$f":"E69+50","v":3300},{"$f":"E70/($C$3*$C$4/10000*($C$5*1000)*$C$6)","v":0.93464052287581723},"-",37.50291744259011,26.580527307952593,1.250097248086337,2.8691385853818474E-6,3573.0801563434752,21.902964388739605,0.35010890938371414,273.07892160790942,4.9193365905021222]
[null,null,null,null,3350,0.94880174291939012,"-",39.164757000240527,21.143209974189858,1.3054919000080176,7.2934700234839056E-7,3731.4114636492891,22.873534550560645,0.40950910918003208,381.41117584592342,5.9891063308488253]
[null,null,null,null,3400,0.96296296296296313,"-",41.31532826577952,15.596628251670495,1.3771776088593173,4.8967971562063894E-6,3936.306550157236,24.129540457745183,0.47928517807555526,536.30481378737761,7.3642621243649042]
[null,null,null,null,3450,0.97712418300653614,"-",44.378513240253149,9.8983283501555661,1.4792837746751049,3.5681931551678758E-6,4228.1506570658767,25.918543447038605,0.56699506885732431,778.14956044780592,9.3064410236643429]
[null,null,null,null,3500,0.99128540305010915,"-",49.912756488264854,3.9532639422106968,1.6637585496088285,1.7934866409774486E-6,4755.4241621236952,29.150727528860568,0.6981646838650668,1255.4237263835482,12.771863072294069]
[null,null,null,null,{"$f":"C9","v":3530.7692307692305},{"$f":"E75/($C$3*$C$4/10000*($C$5*1000)*$C$6)","v":1.0000000000000002},{"$f":"IF(F75<(1/3),3/2*(1-SQRT(1-8/3*F75)),IF(F75<(3*$C$7-1)/6/$C$7,1/3/(1-2*F75),\"-\"))","v":"-"},{"$f":"IF(F75<(3*$C$7-1)/6/$C$7,$C$3/2,IF(F75<(3*$C$7-1)/3/$C$7,3*$C$7*E75/($C$4/100)/($C$6*$C$5*1000)/(3*$C$7-1)*100,J75*$C$3))","v":69.507415424291196},{"$f":"IF(F75<(1/3),$C$4/100*($C$3/100)^2*$C$6*$C$5*1000/48*G75*(8-3*G75),IF(F75<(3*$C$7-1)/6/$C$7,$C$4/100*($C$3/100)^2*$C$6*$C$5*1000/48*(6*G75^2-1)/G75^2,IF(F75<(3*$C$7-1)/3/$C$7,$C$4/100*$C$6*$C$5*1000*(6*$C$7^2-1)/12/$C$7^2*(H75/100)^2+E75*($C$3/2/100-H75/100),L75*M75/100-O75*P75/100-E75*(H75/100-$C$3/2/100))))","v":-9.2557391099035158E-5},2.3169138474763731,{"$f":"IF(F75>(3*$C$7-1)/3/$C$7,($C$7-1)^3*J75^3+3*($C$7^2*(2-$C$7)-$C$7*F75)*J75^2+3*$C$7^2*($C$7-1)*J75-$C$7^3,\"-\")","v":-1.8675079278551721E-6},{"$f":"IF(F75>(3*$C$7-1)/3/$C$7,$C$4/100*H75/100*$C$6*$C$5*1000/3/$C$7*(3*$C$7-1),\"-\")","v":6622.2999091055453},{"$f":"IF(F75>(3*$C$7-1)/3/$C$7,(6*$C$7^2-1)/4/$C$7/(3*$C$7-1)*H75,\"-\")","v":40.594666991497803},{"$f":"IF(F75>(3*$C$7-1)/3/$C$7,$C$7*(H75-$C$3)/H75,\"-\")","v":0.99468490621430161},{"$f":"IF(F75>(3*$C$7-1)/3/$C$7,$C$4/100*(H75/100-$C$3/100)*$C$6*$C$5*1000/3*N75*(3-N75),\"-\")","v":3091.5309123022939},{"$f":"IF(F75>(3*$C$7-1)/3/$C$7,(8-3*N75)/4/(3-N75)*(H75-$C$3),\"-\")","v":24.705223955849984}]

{"sheet":"比較","index":1,"n_rows":104,"n_cols":29,"rows_kept":104,"cut":false,"hidden":false,"merged":[]}
[]
[null,"数式解",null,null,null,null,null,null,null,"エクセルマクロ"]
[null,{"$f":"曲げ耐力!E3","v":"軸力N(kNm)"},{"$f":"曲げ耐力!F3","v":"N/(bhσ0)"},{"$f":"曲げ耐力!G3","v":"r"},{"$f":"曲げ耐力!H3","v":"X(cm)"},{"$f":"曲げ耐力!I3","v":"M(kNm)"},"M/(bh^2σ0)","X/h",null,"Mu","N","Xu","Mc","N","Xc",null,null,null,null,null,null,null,null,null,null,null,null,"ru",1.75]
[null,{"$f":"曲げ耐力!E4","v":0},{"$f":"曲げ耐力!F4","v":0},{"$f":"曲げ耐力!G4","v":0},{"$f":"曲げ耐力!H4","v":15},{"$f":"曲げ耐力!I4","v":0},{"$f":"F4/(曲げ耐力!$C$4/100*(曲げ耐力!$C$3/100)^2*曲げ耐力!$C$6*曲げ耐力!$C$5*1000)","v":0},{"$f":"E4/曲げ耐力!$C$3","v":0.5},null,0,-1.9980000000000001E-2,999,2.9790675758882411E-2,-1.9980000000000001E-2,8.5463884458124646]
[null,{"$f":"曲げ耐力!E5","v":50},{"$f":"曲げ耐力!F5","v":1.4161220043572988E-2},{"$f":"曲げ耐力!G5","v":2.8594998058467214E-2},{"$f":"曲げ耐力!H5","v":15},{"$f":"曲げ耐力!I5","v":4.9939853793828624},{"$f":"F5/(曲げ耐力!$C$4/100*(曲げ耐力!$C$3/100)^2*曲げ耐力!$C$6*曲げ耐力!$C$5*1000)","v":4.7147283901218017E-3},{"$f":"E5/曲げ耐力!$C$3","v":0.5},null,5.2399585090865513,35.252569066153839,0.30445852847769855,3.5413918273120459,35.252569066153839,14.834212943369153,null,null,null,null,null,null,null,null,null,null,null,null,-1,-1]
[null,{"$f":"曲げ耐力!E6","v":100},{"$f":"曲げ耐力!F6","v":2.8322440087145975E-2},{"$f":"曲げ耐力!G6","v":5.7756830670665227E-2},{"$f":"曲げ耐力!H6","v":15},{"$f":"曲げ耐力!I6","v":9.9754622462579139},{"$f":"F6/(曲げ耐力!$C$4/100*(曲げ耐力!$C$3/100)^2*曲げ耐力!$C$6*曲げ耐力!$C$5*1000)","v":9.4176477270408766E-3},{"$f":"E6/曲げ耐力!$C$3","v":0.5},null,10.371719070278115,70.525118132307668,0.63381369867175819,7.0568833442675949,70.525118132307668,14.916749839872123,null,null,null,null,null,null,null,null,null,null,null,null,{"$f":"(3*$AC$3-1)^2/12/(6*$AC$3^2-4*$AC$3+1)","v":0.12163299663299662},{"$f":"(3*$AC$3-1)^2/3/(6*$AC$3^2-4*$AC$3+1)","v":0.48653198653198648}]
[null,{"$f":"曲げ耐力!E7","v":150},{"$f":"曲げ耐力!F7","v":4.2483660130718963E-2},{"$f":"曲げ耐力!G7","v":8.7520605737667345E-2},{"$f":"曲げ耐力!H7","v":15},{"$f":"曲げ耐力!I7","v":14.943655863769752},{"$f":"F7/(曲げ耐力!$C$4/100*(曲げ耐力!$C$3/100)^2*曲げ耐力!$C$6*曲げ耐力!$C$5*1000)","v":1.4108026596151544E-2},{"$f":"E7/曲げ耐力!$C$3","v":0.5},null,15.368133055761918,105.79766719846151,1.0781581387966872,10.567320186552109,105.79766719846151,14.944687715667488]
[null,{"$f":"曲げ耐力!E8","v":200},{"$f":"曲げ耐力!F8","v":5.6644880174291951E-2},{"$f":"曲げ耐力!G8","v":0.11792521224274971},{"$f":"曲げ耐力!H8","v":15},{"$f":"曲げ耐力!I8","v":19.89770805675855},{"$f":"F8/(曲げ耐力!$C$4/100*(曲げ耐力!$C$3/100)^2*曲げ耐力!$C$6*曲げ耐力!$C$5*1000)","v":1.8785054810302189E-2},{"$f":"E8/曲げ耐力!$C$3","v":0.5},null,20.286319517706882,141.07021626461534,1.4460755229741338,14.069357177933522,141.07021626461534,14.958731755381827,null,null,null,null,null,null,null,null,null,null,null,null,-1,-1]
[null,{"$f":"曲げ耐力!E9","v":250},{"$f":"曲げ耐力!F9","v":7.0806100217864945E-2},{"$f":"曲げ耐力!G9","v":0.14901391617351945},{"$f":"曲げ耐力!H9","v":15},{"$f":"曲げ耐力!I9","v":24.836664061363209},{"$f":"F9/(曲げ耐力!$C$4/100*(曲げ耐力!$C$3/100)^2*曲げ耐力!$C$6*曲げ耐力!$C$5*1000)","v":2.3447830994751031E-2},{"$f":"E9/曲げ耐力!$C$3","v":0.5},null,25.076607855203353,176.34276533076917,1.8117085667550565,17.580028352858829,176.34276533076917,14.967218260663751,null,null,null,null,null,null,null,null,null,null,null,null,{"$f":"(6*$AC$3^2-1)/48/$AC$3^2","v":0.11819727891156463},{"$f":"(3*$AC$3-1)/6/$AC$3","v":0.40476190476190477}]
[null,{"$f":"曲げ耐力!E10","v":300},{"$f":"曲げ耐力!F10","v":8.4967320261437926E-2},{"$f":"曲げ耐力!G10","v":0.18083508292883543},{"$f":"曲げ耐力!H10","v":15},{"$f":"曲げ耐力!I10","v":29.759456583445417},{"$f":"F10/(曲げ耐力!$C$4/100*(曲げ耐力!$C$3/100)^2*曲げ耐力!$C$6*曲げ耐力!$C$5*1000)","v":2.8095347537021816E-2},{"$f":"E10/曲げ耐力!$C$3","v":0.5},null,29.7760197977024,211.61531439692303,2.1986248681247234,21.060670827751071,211.61531439692303,14.972850896912815]
[null,{"$f":"曲げ耐力!E11","v":350},{"$f":"曲げ耐力!F11","v":9.912854030501092E-2},{"$f":"曲げ耐力!G11","v":0.21344306065765806},{"$f":"曲げ耐力!H11","v":15},{"$f":"曲げ耐力!I11","v":34.66488630567958},{"$f":"F11/(曲げ耐力!$C$4/100*(曲げ耐力!$C$3/100)^2*曲げ耐力!$C$6*曲げ耐力!$C$5*1000)","v":3.2726472184011222E-2},{"$f":"E11/曲げ耐力!$C$3","v":0.5},null,34.355969308747795,246.88786346307685,2.5705029677450657,24.554371230931235,246.88786346307685,14.97690639501214]
[null,{"$f":"曲げ耐力!E12","v":400},{"$f":"曲げ耐力!F12","v":0.1132897603485839},{"$f":"曲げ耐力!G12","v":0.24689927064561307},{"$f":"曲げ耐力!H12","v":15},{"$f":"曲げ耐力!I12","v":39.55159782565692},{"$f":"F12/(曲げ耐力!$C$4/100*(曲げ耐力!$C$3/100)^2*曲げ耐力!$C$6*曲げ耐力!$C$5*1000)","v":3.7339925325602027E-2},{"$f":"E12/曲げ耐力!$C$3","v":0.5},null,38.830132728846152,282.16041252923071,2.9402889513075356,27.987391355050544,282.16041252923071,14.979910467678314]
[null,{"$f":"曲げ耐力!E13","v":450},{"$f":"曲げ耐力!F13","v":0.12745098039215688},{"$f":"曲げ耐力!G13","v":0.28127356734701991},{"$f":"曲げ耐力!H13","v":15},{"$f":"曲げ耐力!I13","v":44.418049643640281},{"$f":"F13/(曲げ耐力!$C$4/100*(曲げ耐力!$C$3/100)^2*曲げ耐力!$C$6*曲げ耐力!$C$5*1000)","v":4.1934251660662572E-2},{"$f":"E13/曲げ耐力!$C$3","v":0.5},null,43.203241263191785,317.43296159538454,3.3137048456370835,31.504454355671839,317.43296159538454,14.982313725811247]
[null,{"$f":"曲げ耐力!E14","v":500},{"$f":"曲げ耐力!F14","v":0.14161220043572989},{"$f":"曲げ耐力!G14","v":0.31664595433757836},{"$f":"曲げ耐力!H14","v":15},{"$f":"曲げ耐力!I14","v":49.262476296108261},{"$f":"F14/(曲げ耐力!$C$4/100*(曲げ耐力!$C$3/100)^2*曲げ耐力!$C$6*曲げ耐力!$C$5*1000)","v":4.650778444803249E-2},{"$f":"E14/曲げ耐力!$C$3","v":0.5},null,47.453817170539878,352.70551066153837,3.6861462072730071,34.926777377092733,352.70551066153837,14.984191271227598]
[null,{"$f":"曲げ耐力!E15","v":550},{"$f":"曲げ耐力!F15","v":0.15577342047930287},{"$f":"曲げ耐力!G15","v":0.35310877711781979},{"$f":"曲げ耐力!H15","v":15},{"$f":"曲げ耐力!I15","v":54.082839966486596},{"$f":"F15/(曲げ耐力!$C$4/100*(曲げ耐力!$C$3/100)^2*曲げ耐力!$C$6*曲げ耐力!$C$5*1000)","v":5.1058599823117334E-2},{"$f":"E15/曲げ耐力!$C$3","v":0.5},null,51.606784796588819,387.9780597276922,4.0581494762301435,38.425262802451165,387.9780597276922,14.985768409377338]
[null,{"$f":"曲げ耐力!E16","v":600},{"$f":"曲げ耐力!F16","v":0.16993464052287585},{"$f":"曲げ耐力!G16","v":0.39076956548120945},{"$f":"曲げ耐力!H16","v":15},{"$f":"曲げ耐力!I16","v":58.876767761736787},{"$f":"F16/(曲げ耐力!$C$4/100*(曲げ耐力!$C$3/100)^2*曲げ耐力!$C$6*曲げ耐力!$C$5*1000)","v":5.5584457581886577E-2},{"$f":"E16/曲げ耐力!$C$3","v":0.5},null,55.64989399307602,423.25060879384608,4.4286149504780781,41.807233209271054,423.25060879384608,14.987045140260463]
[null,{"$f":"曲げ耐力!E17","v":650},{"$f":"曲げ耐力!F17","v":0.18409586056644883},{"$f":"曲げ耐力!G17","v":0.42975477735179446},{"$f":"曲げ耐力!H17","v":15},{"$f":"曲げ耐力!I17","v":63.641469095938781},{"$f":"F17/(曲げ耐力!$C$4/100*(曲げ耐力!$C$3/100)^2*曲げ耐力!$C$6*曲げ耐力!$C$5*1000)","v":6.0082723184255928E-2},{"$f":"E17/曲げ耐力!$C$3","v":0.5},null,59.576904458003654,458.52315785999991,4.7990088993906967,45.31675424458674,458.52315785999991,14.988171667510276]
[null,{"$f":"曲げ耐力!E18","v":700},{"$f":"曲げ耐力!F18","v":0.19825708061002184},{"$f":"曲げ耐力!G18","v":0.47021482029509232},{"$f":"曲げ耐力!H18","v":15},{"$f":"曲げ耐力!I18","v":68.373624879065048},{"$f":"F18/(曲げ耐力!$C$4/100*(曲げ耐力!$C$3/100)^2*曲げ耐力!$C$6*曲げ耐力!$C$5*1000)","v":6.45502631392771E-2},{"$f":"E18/曲げ耐力!$C$3","v":0.5},null,63.405084223535113,493.79570692615374,5.1719777603745465,48.568883174421593,493.79570692615374,14.989072889310123]
[null,{"$f":"曲げ耐力!E19","v":750},{"$f":"曲げ耐力!F19","v":0.21241830065359482},{"$f":"曲げ耐力!G19","v":0.51233092785162548},{"$f":"曲げ耐力!H19","v":15},{"$f":"曲げ耐力!I19","v":73.069235774812711},{"$f":"F19/(曲げ耐力!$C$4/100*(曲げ耐力!$C$3/100)^2*曲げ耐力!$C$6*曲げ耐力!$C$5*1000)","v":6.8983301748189188E-2},{"$f":"E19/曲げ耐力!$C$3","v":0.5},null,67.118885170616025,529.06825599230751,5.5421928959488875,51.976390576266802,529.06825599230751,14.989899009293318]
[null,{"$f":"曲げ耐力!E20","v":800},{"$f":"曲げ耐力!F20","v":0.2265795206971678},{"$f":"曲げ耐力!G20","v":0.55632480385622451},{"$f":"曲げ耐力!H20","v":15},{"$f":"曲げ耐力!I20","v":77.723409376441992},{"$f":"F20/(曲げ耐力!$C$4/100*(曲げ耐力!$C$3/100)^2*曲げ耐力!$C$6*曲げ耐力!$C$5*1000)","v":7.337722018109992E-2},{"$f":"E20/曲げ耐力!$C$3","v":0.5},null,70.726548377005713,564.34080505846134,5.9126583701968203,55.502152354245325,564.34080505846134,14.990650027459862]
[null,{"$f":"曲げ耐力!E21","v":850},{"$f":"曲げ耐力!F21","v":0.24074074074074078},{"$f":"曲げ耐力!G21","v":0.60247253214424934},{"$f":"曲げ耐力!H21","v":15},{"$f":"曲げ耐力!I21","v":82.330053257009126},{"$f":"F21/(曲げ耐力!$C$4/100*(曲げ耐力!$C$3/100)^2*曲げ耐力!$C$6*曲げ耐力!$C$5*1000)","v":7.7726266691439255E-2},{"$f":"E21/曲げ耐力!$C$3","v":0.5},null,74.225986626059594,599.61335412461517,6.28401791113615,58.672523018450107,599.61335412461517,14.991250841993093]
[null,{"$f":"曲げ耐力!E22","v":900},{"$f":"曲げ耐力!F22","v":0.25490196078431376},{"$f":"曲げ耐力!G22","v":0.65112531237283466},{"$f":"曲げ耐力!H22","v":15},{"$f":"曲げ耐力!I22","v":86.881417385618718},{"$f":"F22/(曲げ耐力!$C$4/100*(曲げ耐力!$C$3/100)^2*曲げ耐力!$C$6*曲げ耐力!$C$5*1000)","v":8.2023124619683613E-2},{"$f":"E22/曲げ耐力!$C$3","v":0.5},null,77.611131505480614,634.885903190769,6.6546264360547029,62.207864874389443,634.885903190769,14.991851656526329]
[null,{"$f":"曲げ耐力!E23","v":950},{"$f":"曲げ耐力!F23","v":0.26906318082788677},{"$f":"曲げ耐力!G23","v":0.70274162592502076},{"$f":"曲げ耐力!H23","v":15},{"$f":"曲げ耐力!I23","v":91.367384312519988},{"$f":"F23/(曲げ耐力!$C$4/100*(曲げ耐力!$C$3/100)^2*曲げ耐力!$C$6*曲げ耐力!$C$5*1000)","v":8.6258242270352919E-2},{"$f":"E23/曲げ耐力!$C$3","v":0.5},null,80.89574477508701,670.15845225692283,7.0254137743115423,65.64862885903041,670.15845225692283,14.992377369242909]
[null,{"$f":"曲げ耐力!E24","v":1000},{"$f":"曲げ耐力!F24","v":0.28322440087145978},{"$f":"曲げ耐力!G24","v":0.75793962862093123},{"$f":"曲げ耐力!H24","v":15},{"$f":"曲げ耐力!I24","v":95.774313003028524},{"$f":"F24/(曲げ耐力!$C$4/100*(曲げ耐力!$C$3/100)^2*曲げ耐力!$C$6*曲げ耐力!$C$5*1000)","v":9.0418741397194677E-2},{"$f":"E24/曲げ耐力!$C$3","v":0.5},null,84.068101080498366,705.43100132307666,7.395754079222681,68.893611872807611,705.43100132307666,14.992827980142831]
[null,{"$f":"曲げ耐力!E25","v":1050},{"$f":"曲げ耐力!F25","v":0.29738562091503273},{"$f":"曲げ耐力!G25","v":0.81758789979235891},{"$f":"曲げ耐力!H25","v":15},{"$f":"曲げ耐力!I25","v":100.08303624977442},{"$f":"F25/(曲げ耐力!$C$4/100*(曲げ耐力!$C$3/100)^2*曲げ耐力!$C$6*曲げ耐力!$C$5*1000)","v":9.4486526597463136E-2},{"$f":"E25/曲げ耐力!$C$3","v":0.5},null,87.128533511312611,740.70355038923049,7.7664698921442037,72.447036463707391,740.70355038923049,14.993278591042758]
[null,{"$f":"曲げ耐力!E26","v":1100},{"$f":"曲げ耐力!F26","v":0.31154684095860574},{"$f":"曲げ耐力!G26","v":0.88297572637021349},{"$f":"曲げ耐力!H26","v":15},{"$f":"曲げ耐力!I26","v":104.26510296134964},{"$f":"F26/(曲げ耐力!$C$4/100*(曲げ耐力!$C$3/100)^2*曲げ耐力!$C$6*曲げ耐力!$C$5*1000)","v":9.8434737726764365E-2},{"$f":"E26/曲げ耐力!$C$3","v":0.5},null,90.085842996439538,775.97609945538431,8.1374002810716632,75.671082299111475,775.97609945538431,14.99365410012603]
[null,{"$f":"曲げ耐力!E27","v":1150},{"$f":"曲げ耐力!F27","v":0.32570806100217869},{"$f":"曲げ耐力!G27","v":0.95616948045652317},{"$f":"曲げ耐力!H27","v":15},{"$f":"曲げ耐力!I27","v":108.27491386877193},{"$f":"F27/(曲げ耐力!$C$4/100*(曲げ耐力!$C$3/100)^2*曲げ耐力!$C$6*曲げ耐力!$C$5*1000)","v":0.1022203253663061},{"$f":"E27/曲げ耐力!$C$3","v":0.5},null,92.930680015051024,811.24864852153814,8.5074723659753815,78.438836458754452,811.24864852153814,14.993954507392647]
[null,{"$f":"曲げ耐力!E28","v":1200},{"$f":"曲げ耐力!F28","v":0.3398692810457517},{"$f":"曲げ耐力!G28","v":1.0408163265306127},{"$f":"曲げ耐力!H28","v":15},{"$f":"曲げ耐力!I28","v":112.03337104072401},{"$f":"F28/(曲げ耐力!$C$4/100*(曲げ耐力!$C$3/100)^2*曲げ耐力!$C$6*曲げ耐力!$C$5*1000)","v":0.10576861463539666},{"$f":"E28/曲げ耐力!$C$3","v":0.5},null,95.669653482844154,846.52119758769209,8.8780451282262813,82.151995481880888,846.52119758769209,14.994330016475921]
[null,{"$f":"曲げ耐力!E29","v":1250},{"$f":"曲げ耐力!F29","v":0.35403050108932471},{"$f":"曲げ耐力!G29","v":1.1417910447761201},{"$f":"曲げ耐力!H29","v":15},{"$f":"曲げ耐力!I29","v":115.47699849170441},{"$f":"F29/(曲げ耐力!$C$4/100*(曲げ耐力!$C$3/100)^2*曲げ耐力!$C$6*曲げ耐力!$C$5*1000)","v":0.10901967904082478},{"$f":"E29/曲げ耐力!$C$3","v":0.5},null,98.298145202198953,881.79374665384591,9.2488324664831172,85.338793473576146,881.79374665384591,14.994630423742533,null,null,null,null,null,null,null,null,null,null,null,null,-1,-1]
[null,{"$f":"曲げ耐力!E30","v":1300},{"$f":"曲げ耐力!F30","v":0.36819172113289766},{"$f":"曲げ耐力!G30","v":1.2644628099173558},{"$f":"曲げ耐力!H30","v":15},{"$f":"曲げ耐力!I30","v":118.60199849170439},{"$f":"F30/(曲げ耐力!$C$4/100*(曲げ耐力!$C$3/100)^2*曲げ耐力!$C$6*曲げ耐力!$C$5*1000)","v":0.11196993321656913},{"$f":"E30/曲げ耐力!$C$3","v":0.5},null,100.81582545638113,917.06629571999974,9.6190476020574565,88.725810240277056,917.06629571999974,14.994930831009151,null,null,null,null,null,null,null,null,null,null,null,null,{"$f":"(3*$AC$3-1)/6/$AC$3","v":0.40476190476190477},0.5]
[null,{"$f":"曲げ耐力!E31","v":1350},{"$f":"曲げ耐力!F31","v":0.38235294117647067},{"$f":"曲げ耐力!G31","v":1.4166666666666676},{"$f":"曲げ耐力!H31","v":15},{"$f":"曲げ耐力!I31","v":121.40837104072401},{"$f":"F31/(曲げ耐力!$C$4/100*(曲げ耐力!$C$3/100)^2*曲げ耐力!$C$6*曲げ耐力!$C$5*1000)","v":0.11461937716262978},{"$f":"E31/曲げ耐力!$C$3","v":0.5},null,103.23101213795223,952.33884478615357,9.9895488389730467,91.399544429340068,952.33884478615357,14.995156136459114]
[null,{"$f":"曲げ耐力!E32","v":1400},{"$f":"曲げ耐力!F32","v":0.39651416122004368},{"$f":"曲げ耐力!G32","v":1.6105263157894754},{"$f":"曲げ耐力!H32","v":15},{"$f":"曲げ耐力!I32","v":123.89611613876322},{"$f":"F32/(曲げ耐力!$C$4/100*(曲げ耐力!$C$3/100)^2*曲げ耐力!$C$6*曲げ耐力!$C$5*1000)","v":0.11696801087900667},{"$f":"E32/曲げ耐力!$C$3","v":0.5},null,105.533112887331,987.6113938523074,10.359835499882699,95.136779385497874,987.6113938523074,14.995456543725732,null,null,null,null,null,null,null,null,null,null,null,null,-1,-1]
[null,{"$f":"曲げ耐力!E33","v":1450},{"$f":"曲げ耐力!F33","v":0.41067538126361663},{"$f":"曲げ耐力!G33","v":"-"},{"$f":"曲げ耐力!H33","v":15.219146482122262},{"$f":"曲げ耐力!I33","v":125.70552615509872},{"$f":"F33/(曲げ耐力!$C$4/100*(曲げ耐力!$C$3/100)^2*曲げ耐力!$C$6*曲げ耐力!$C$5*1000)","v":0.11867624110503147},{"$f":"E33/曲げ耐力!$C$3","v":0.5073048827374087},null,107.72636418625362,1022.8839429184612,10.73047978746891,98.05940480338694,1022.8839429184612,14.995681849175691,null,null,null,null,null,null,null,null,null,null,null,null,{"$f":"(3*$AC$3-1)/3/$AC$3","v":0.80952380952380953},1]
[null,{"$f":"曲げ耐力!E34","v":1500},{"$f":"曲げ耐力!F34","v":0.42483660130718964},{"$f":"曲げ耐力!G34","v":"-"},{"$f":"曲げ耐力!H34","v":15.743944636678203},{"$f":"曲げ耐力!I34","v":126.76572359047424},{"$f":"F34/(曲げ耐力!$C$4/100*(曲げ耐力!$C$3/100)^2*曲げ耐力!$C$6*曲げ耐力!$C$5*1000)","v":0.11967715371649709},{"$f":"E34/曲げ耐力!$C$3","v":0.52479815455594003},null,109.81385141608324,1058.1564919846151,11.100909499049187,101.06623878450728,1058.1564919846151,14.995907154625653]
[null,{"$f":"曲げ耐力!E35","v":1550},{"$f":"曲げ耐力!F35","v":0.4389978213507626},{"$f":"曲げ耐力!G35","v":"-"},{"$f":"曲げ耐力!H35","v":16.268742791234143},{"$f":"曲げ耐力!I35","v":127.60762263382861},{"$f":"F35/(曲げ耐力!$C$4/100*(曲げ耐力!$C$3/100)^2*曲げ耐力!$C$6*曲げ耐力!$C$5*1000)","v":0.12047197489032475},{"$f":"E35/曲げ耐力!$C$3","v":0.54229142637447147},null,111.78978524341122,1093.4290410507688,11.471053109288217,104.12810340277795,1093.4290410507688,14.996132460075618,null,null,null,null,null,null,null,null,null,null,null,null,-1,-1]
[null,{"$f":"曲げ耐力!E36","v":1600},{"$f":"曲げ耐力!F36","v":0.4531590413943356},{"$f":"曲げ耐力!G36","v":"-"},{"$f":"曲げ耐力!H36","v":16.793540945790085},{"$f":"曲げ耐力!I36","v":128.2312232851618},{"$f":"F36/(曲げ耐力!$C$4/100*(曲げ耐力!$C$3/100)^2*曲げ耐力!$C$6*曲げ耐力!$C$5*1000)","v":0.1210607046265144},{"$f":"E36/曲げ耐力!$C$3","v":0.55978469819300281},null,113.65964460008266,1128.7015901169227,11.841554346203804,106.17771951022338,1128.7015901169227,14.996282663708927,null,null,null,null,null,null,null,null,null,null,null,null,1,{"$f":"$AC$3/($AC$3-1)","v":2.3333333333333335}]
[null,{"$f":"曲げ耐力!E37","v":1650},{"$f":"曲げ耐力!F37","v":0.46732026143790861},{"$f":"曲げ耐力!G37","v":"-"},{"$f":"曲げ耐力!H37","v":17.318339100346023},{"$f":"曲げ耐力!I37","v":128.63652554447384},{"$f":"F37/(曲げ耐力!$C$4/100*(曲げ耐力!$C$3/100)^2*曲げ耐力!$C$6*曲げ耐力!$C$5*1000)","v":0.12144334292506608},{"$f":"E37/曲げ耐力!$C$3","v":0.57727797001153414},null,115.41890349097858,1163.9741391830767,12.21205558311939,109.21100992936347,1163.9741391830767,14.996507969158889]
[null,{"$f":"曲げ耐力!E38","v":1700},{"$f":"曲げ耐力!F38","v":0.48148148148148157},{"$f":"曲げ耐力!G38","v":"-"},{"$f":"曲げ耐力!H38","v":17.843137254901965},{"$f":"曲げ耐力!I38","v":128.82352941176467},{"$f":"F38/(曲げ耐力!$C$4/100*(曲げ耐力!$C$3/100)^2*曲げ耐力!$C$6*曲げ耐力!$C$5*1000)","v":0.12161988978597971},{"$f":"E38/曲げ耐力!$C$3","v":0.59477124183006547},null,117.06885803671805,1199.2466882492304,12.582199193358424,112.10455524877955,1199.2466882492304,14.996733274608854]
[null,{"$f":"曲げ耐力!E39","v":1750},{"$f":"曲げ耐力!F39","v":0.49564270152505457},{"$f":"曲げ耐力!G39","v":"-"},{"$f":"曲げ耐力!H39","v":18.367935409457903},{"$f":"曲げ耐力!I39","v":128.7922348870344},{"$f":"F39/(曲げ耐力!$C$4/100*(曲げ耐力!$C$3/100)^2*曲げ耐力!$C$6*曲げ耐力!$C$5*1000)","v":0.12159034520925542},{"$f":"E39/曲げ耐力!$C$3","v":0.6122645136485968},null,118.61417031582565,1234.5192373153843,12.952628904938695,114.8052044705058,1234.5192373153843,14.996958580058811]
[null,{"$f":"曲げ耐力!E40","v":1800},{"$f":"曲げ耐力!F40","v":0.50980392156862753},{"$f":"曲げ耐力!G40","v":"-"},{"$f":"曲げ耐力!H40","v":18.892733564013845},{"$f":"曲げ耐力!I40","v":128.54264197028289},{"$f":"F40/(曲げ耐力!$C$4/100*(曲げ耐力!$C$3/100)^2*曲げ耐力!$C$6*曲げ耐力!$C$5*1000)","v":0.12135470919489307},{"$f":"E40/曲げ耐力!$C$3","v":0.62975778546712813},null,120.04667270780303,1269.791786381538,13.322987091183657,116.49903290042569,1269.791786381538,14.99710878369212]
[null,{"$f":"曲げ耐力!E41","v":1850},{"$f":"曲げ耐力!F41","v":0.52396514161220054},{"$f":"曲げ耐力!G41","v":"-"},{"$f":"曲げ耐力!H41","v":19.417531718569784},{"$f":"曲げ耐力!I41","v":128.07475066151025},{"$f":"F41/(曲げ耐力!$C$4/100*(曲げ耐力!$C$3/100)^2*曲げ耐力!$C$6*曲げ耐力!$C$5*1000)","v":0.12091298174289275},{"$f":"E41/曲げ耐力!$C$3","v":0.64725105728565946},null,121.3722375618332,1305.064335447692,13.693416802763936,118.87892881240055,1305.064335447692,14.997334089142084]
[null,{"$f":"曲げ耐力!E42","v":1900},{"$f":"曲げ耐力!F42","v":0.53812636165577354},{"$f":"曲げ耐力!G42","v":"-"},{"$f":"曲げ耐力!H42","v":19.942329873125722},{"$f":"曲げ耐力!I42","v":127.38856096071646},{"$f":"F42/(曲げ耐力!$C$4/100*(曲げ耐力!$C$3/100)^2*曲げ耐力!$C$6*曲げ耐力!$C$5*1000)","v":0.12026516285325446},{"$f":"E42/曲げ耐力!$C$3","v":0.66474432910419068},null,122.59003495525897,1340.3368845138457,14.063703463673594,121.06544476020275,1340.3368845138457,14.997559394592047]
[null,{"$f":"曲げ耐力!E43","v":1950},{"$f":"曲げ耐力!F43","v":0.55228758169934655},{"$f":"曲げ耐力!G43","v":"-"},{"$f":"曲げ耐力!H43","v":20.467128027681664},{"$f":"曲げ耐力!I43","v":126.48407286790146},{"$f":"F43/(曲げ耐力!$C$4/100*(曲げ耐力!$C$3/100)^2*曲げ耐力!$C$6*曲げ耐力!$C$5*1000)","v":0.11941125252597813},{"$f":"E43/曲げ耐力!$C$3","v":0.68223760092272212},null,123.69678169222942,1375.6094335799996,14.433882836580278,122.41637189979231,1375.6094335799996,14.997709598225356]
[null,{"$f":"曲げ耐力!E44","v":2000},{"$f":"曲げ耐力!F44","v":0.56644880174291956},{"$f":"曲げ耐力!G44","v":"-"},{"$f":"曲げ耐力!H44","v":20.991926182237606},{"$f":"曲げ耐力!I44","v":125.36128638306533},{"$f":"F44/(曲げ耐力!$C$4/100*(曲げ耐力!$C$3/100)^2*曲げ耐力!$C$6*曲げ耐力!$C$5*1000)","v":0.11835125076106386},{"$f":"E44/曲げ耐力!$C$3","v":0.69973087274125356},null,124.69750761159206,1410.8819826461533,14.804384073495868,124.28065731493651,1410.8819826461533,14.99793490367532]
[null,{"$f":"曲げ耐力!E45","v":2050},{"$f":"曲げ耐力!F45","v":0.58061002178649246},{"$f":"曲げ耐力!G45","v":"-"},{"$f":"曲げ耐力!H45","v":21.516724336793544},{"$f":"曲げ耐力!I45","v":124.02020150620802},{"$f":"F45/(曲げ耐力!$C$4/100*(曲げ耐力!$C$3/100)^2*曲げ耐力!$C$6*曲げ耐力!$C$5*1000)","v":0.11708515755851157},{"$f":"E45/曲げ耐力!$C$3","v":0.71722414455978478},null,125.58799729429178,1446.1545317123073,15.174742259740832,0,1446.1545317123073,14.998160209125277]
[null,{"$f":"曲げ耐力!E46","v":2100},{"$f":"曲げ耐力!F46","v":0.59477124183006547},{"$f":"曲げ耐力!G46","v":"-"},{"$f":"曲げ耐力!H46","v":22.041522491349482},{"$f":"曲げ耐力!I46","v":122.46081823732953},{"$f":"F46/(曲げ耐力!$C$4/100*(曲げ耐力!$C$3/100)^2*曲げ耐力!$C$6*曲げ耐力!$C$5*1000)","v":0.11561297291832127},{"$f":"E46/曲げ耐力!$C$3","v":0.73471741637831611},null,126.37011625329775,1481.427080778461,15.544957395315171,0,1481.427080778461,14.99838551457524]
[null,{"$f":"曲げ耐力!E47","v":2150},{"$f":"曲げ耐力!F47","v":0.60893246187363848},{"$f":"曲げ耐力!G47","v":"-"},{"$f":"曲げ耐力!H47","v":22.566320645905424},{"$f":"曲げ耐力!I47","v":120.68313657642986},{"$f":"F47/(曲げ耐力!$C$4/100*(曲げ耐力!$C$3/100)^2*曲げ耐力!$C$6*曲げ耐力!$C$5*1000)","v":0.11393469684049297},{"$f":"E47/曲げ耐力!$C$3","v":0.75221068819684744},null,127.04511769079247,1516.6996298446149,15.915315581560138,0,1516.6996298446149,14.998535718208551]
[null,{"$f":"曲げ耐力!E48","v":2200},{"$f":"曲げ耐力!F48","v":0.62309368191721148},{"$f":"曲げ耐力!G48","v":"-"},{"$f":"曲げ耐力!H48","v":23.091118800461366},{"$f":"曲げ耐力!I48","v":118.687156523509},{"$f":"F48/(曲げ耐力!$C$4/100*(曲げ耐力!$C$3/100)^2*曲げ耐力!$C$6*曲げ耐力!$C$5*1000)","v":0.11205032932502665},{"$f":"E48/曲げ耐力!$C$3","v":0.76970396001537889},null,127.60807620128575,1551.9721789107687,16.285530717134478,0,1551.9721789107687,14.998761023658513]
[null,{"$f":"曲げ耐力!E49","v":2250},{"$f":"曲げ耐力!F49","v":0.63725490196078449},{"$f":"曲げ耐力!G49","v":"-"},{"$f":"曲げ耐力!H49","v":23.615916955017305},{"$f":"曲げ耐力!I49","v":116.47287807856705},{"$f":"F49/(曲げ耐力!$C$4/100*(曲げ耐力!$C$3/100)^2*曲げ耐力!$C$6*曲げ耐力!$C$5*1000)","v":0.10995987037192241},{"$f":"E49/曲げ耐力!$C$3","v":0.7871972318339101},null,128.06554604515787,1587.2447279769226,16.655888903379442,0,1587.2447279769226,14.998986329108476]
[null,{"$f":"曲げ耐力!E50","v":2300},{"$f":"曲げ耐力!F50","v":0.65141612200435739},{"$f":"曲げ耐力!G50","v":"-"},{"$f":"曲げ耐力!H50","v":24.140715109573243},{"$f":"曲げ耐力!I50","v":114.04030124160388},{"$f":"F50/(曲げ耐力!$C$4/100*(曲げ耐力!$C$3/100)^2*曲げ耐力!$C$6*曲げ耐力!$C$5*1000)","v":0.10766331998118013},{"$f":"E50/曲げ耐力!$C$3","v":0.80469050365244144},null,128.41365748049861,1622.5172770430763,17.026104038953783,0,1622.5172770430763,14.999136532741787]
[null,{"$f":"曲げ耐力!E51","v":2350},{"$f":"曲げ耐力!F51","v":0.6655773420479304},{"$f":"曲げ耐力!G51","v":"-"},{"$f":"曲げ耐力!H51","v":24.665513264129181},{"$f":"曲げ耐力!I51","v":111.38942601261959},{"$f":"F51/(曲げ耐力!$C$4/100*(曲げ耐力!$C$3/100)^2*曲げ耐力!$C$6*曲げ耐力!$C$5*1000)","v":0.10516067815279991},{"$f":"E51/曲げ耐力!$C$3","v":0.82218377547097277},null,128.65160385647306,1657.7898261092303,17.396462225198743,0,1657.7898261092303,14.999361838191749]
[null,{"$f":"曲げ耐力!E52","v":2400},{"$f":"曲げ耐力!F52","v":0.67973856209150341},{"$f":"曲げ耐力!G52","v":"-"},{"$f":"曲げ耐力!H52","v":25.190311418685123},{"$f":"曲げ耐力!I52","v":108.52025239161406},{"$f":"F52/(曲げ耐力!$C$4/100*(曲げ耐力!$C$3/100)^2*曲げ耐力!$C$6*曲げ耐力!$C$5*1000)","v":0.10245194488678161},{"$f":"E52/曲げ耐力!$C$3","v":0.8396770472895041},null,128.78316778974644,1693.0623751753842,17.766820411443707,0,1693.0623751753842,14.999587143641712]
[null,{"$f":"曲げ耐力!E53","v":2450},{"$f":"曲げ耐力!F53","v":0.69389978213507642},{"$f":"曲げ耐力!G53","v":"-"},{"$f":"曲げ耐力!H53","v":25.715109573241062},{"$f":"曲げ耐力!I53","v":105.43278037858738},{"$f":"F53/(曲げ耐力!$C$4/100*(曲げ耐力!$C$3/100)^2*曲げ耐力!$C$6*曲げ耐力!$C$5*1000)","v":9.9537120183125341E-2},{"$f":"E53/曲げ耐力!$C$3","v":0.85717031910803543},null,128.80446069243737,1728.3349242415379,18.137035547018048,0,1728.3349242415379,14.999737347275023]
[null,{"$f":"曲げ耐力!E54","v":2500},{"$f":"曲げ耐力!F54","v":0.70806100217864942},{"$f":"曲げ耐力!G54","v":"-"},{"$f":"曲げ耐力!H54","v":26.239907727797},{"$f":"曲げ耐力!I54","v":102.1270099735396},{"$f":"F54/(曲げ耐力!$C$4/100*(曲げ耐力!$C$3/100)^2*曲げ耐力!$C$6*曲げ耐力!$C$5*1000)","v":9.6416204041831141E-2},{"$f":"E54/曲げ耐力!$C$3","v":0.87466359092656665},null,128.71801061843667,1763.6074733076919,18.507250682592392,0,1763.6074733076919,999]
[null,{"$f":"曲げ耐力!E55","v":2550},{"$f":"曲げ耐力!F55","v":0.72222222222222232},{"$f":"曲げ耐力!G55","v":"-"},{"$f":"曲げ耐力!H55","v":26.764705882352946},{"$f":"曲げ耐力!I55","v":98.602941176470551},{"$f":"F55/(曲げ耐力!$C$4/100*(曲げ耐力!$C$3/100)^2*曲げ耐力!$C$6*曲げ耐力!$C$5*1000)","v":9.3089196462898843E-2},{"$f":"E55/曲げ耐力!$C$3","v":0.8921568627450982},null,128.52303460786533,1798.8800223738456,18.877608868837353,0,1798.8800223738456,999]
[null,{"$f":"曲げ耐力!E56","v":2600},{"$f":"曲げ耐力!F56","v":0.73638344226579533},{"$f":"曲げ耐力!G56","v":"-"},{"$f":"曲げ耐力!H56","v":27.289504036908884},{"$f":"曲げ耐力!I56","v":94.860573987380462},{"$f":"F56/(曲げ耐力!$C$4/100*(曲げ耐力!$C$3/100)^2*曲げ耐力!$C$6*曲げ耐力!$C$5*1000)","v":8.9556097446328684E-2},{"$f":"E56/曲げ耐力!$C$3","v":0.90965013456362942},null,128.21772268712229,1834.1525714399995,19.24796705508232,0,1834.1525714399995,999]
[null,{"$f":"曲げ耐力!E57","v":2650},{"$f":"曲げ耐力!F57","v":0.75054466230936834},{"$f":"曲げ耐力!G57","v":"-"},{"$f":"曲げ耐力!H57","v":27.814302191464829},{"$f":"曲げ耐力!I57","v":90.899908406269049},{"$f":"F57/(曲げ耐力!$C$4/100*(曲げ耐力!$C$3/100)^2*曲げ耐力!$C$6*曲げ耐力!$C$5*1000)","v":8.581690699212037E-2},{"$f":"E57/曲げ耐力!$C$3","v":0.92714340638216097},null,127.80626037592832,1869.4251205061532,19.618182190656665,0,1869.4251205061532,999]
[null,{"$f":"曲げ耐力!E58","v":2700},{"$f":"曲げ耐力!F58","v":0.76470588235294135},{"$f":"曲げ耐力!G58","v":"-"},{"$f":"曲げ耐力!H58","v":28.339100346020764},{"$f":"曲げ耐力!I58","v":86.720944433136481},{"$f":"F58/(曲げ耐力!$C$4/100*(曲げ耐力!$C$3/100)^2*曲げ耐力!$C$6*曲げ耐力!$C$5*1000)","v":8.1871625100274084E-2},{"$f":"E58/曲げ耐力!$C$3","v":0.94463667820069219},null,127.28483308011664,1904.6976695723072,19.988397326231006,0,1904.6976695723072,999]
[null,{"$f":"曲げ耐力!E59","v":2750},{"$f":"曲げ耐力!F59","v":0.77886710239651435},{"$f":"曲げ耐力!G59","v":"-"},{"$f":"曲げ耐力!H59","v":28.863898500576703},{"$f":"曲げ耐力!I59","v":82.323682067982872},{"$f":"F59/(曲げ耐力!$C$4/100*(曲げ耐力!$C$3/100)^2*曲げ耐力!$C$6*曲げ耐力!$C$5*1000)","v":7.7720251770789922E-2},{"$f":"E59/曲げ耐力!$C$3","v":0.96212995001922341},null,126.65408769472671,1939.9702186384609,20.358755512475966,0,1939.9702186384609,999]
[null,{"$f":"曲げ耐力!E60","v":2800},{"$f":"曲げ耐力!F60","v":0.79302832244008736},{"$f":"曲げ耐力!G60","v":"-"},{"$f":"曲げ耐力!H60","v":29.388696655132645},{"$f":"曲げ耐力!I60","v":77.708121310808053},{"$f":"F60/(曲げ耐力!$C$4/100*(曲げ耐力!$C$3/100)^2*曲げ耐力!$C$6*曲げ耐力!$C$5*1000)","v":7.3362787003667732E-2},{"$f":"E60/曲げ耐力!$C$3","v":0.97962322183775485},null,125.91654415491202,1975.2427677046148,20.729113698720937,0,1975.2427677046148,999]
[null,{"$f":"曲げ耐力!E61","v":2850},{"$f":"曲げ耐力!F61","v":0.80718954248366026},{"$f":"曲げ耐力!G61","v":"-"},{"$f":"曲げ耐力!H61","v":29.913494809688583},{"$f":"曲げ耐力!I61","v":72.87426216161208},{"$f":"F61/(曲げ耐力!$C$4/100*(曲げ耐力!$C$3/100)^2*曲げ耐力!$C$6*曲げ耐力!$C$5*1000)","v":6.8799230798907554E-2},{"$f":"E61/曲げ耐力!$C$3","v":0.99711649365628607},null,125.06879239915352,2010.5153167707685,21.099328834295271,0,2010.5153167707685,999]
[null,{"$f":"曲げ耐力!E62","v":2900},{"$f":"曲げ耐力!F62","v":0.82135076252723327},{"$f":"曲げ耐力!G62","v":"-"},{"$f":"曲げ耐力!H62","v":30.452723825769532},{"$f":"曲げ耐力!I62","v":67.888412827612115},{"$f":"F62/(曲げ耐力!$C$4/100*(曲げ耐力!$C$3/100)^2*曲げ耐力!$C$6*曲げ耐力!$C$5*1000)","v":6.4092183497382535E-2},{"$f":"E62/曲げ耐力!$C$3","v":1.0150907941923177},null,124.11343360682369,2045.7878658369225,21.469543969869616,0,2045.7878658369225,999]
[null,{"$f":"曲げ耐力!E63","v":2950},{"$f":"曲げ耐力!F63","v":0.83551198257080628},{"$f":"曲げ耐力!G63","v":"-"},{"$f":"曲げ耐力!H63","v":31.036489757831809},{"$f":"曲げ耐力!I63","v":62.870372670999814},{"$f":"F63/(曲げ耐力!$C$4/100*(曲げ耐力!$C$3/100)^2*曲げ耐力!$C$6*曲げ耐力!$C$5*1000)","v":5.9354745441031045E-2},{"$f":"E63/曲げ耐力!$C$3","v":1.0345496585943936},null,123.04882123420848,2081.0604149030764,21.839902156114583,0,2081.0604149030764,999]
[null,{"$f":"曲げ耐力!E64","v":3000},{"$f":"曲げ耐力!F64","v":0.84967320261437929},{"$f":"曲げ耐力!G64","v":"-"},{"$f":"曲げ耐力!H64","v":31.673057934549433},{"$f":"曲げ耐力!I64","v":57.819614769976909},{"$f":"F64/(曲げ耐力!$C$4/100*(曲げ耐力!$C$3/100)^2*曲げ耐力!$C$6*曲げ耐力!$C$5*1000)","v":5.4586419172817702E-2},{"$f":"E64/曲げ耐力!$C$3","v":1.0557685978183144},null,121.87448959296933,2116.3329639692301,22.21011729168892,0,2116.3329639692301,999]
[null,{"$f":"曲げ耐力!E65","v":3050},{"$f":"曲げ耐力!F65","v":0.86383442265795229},{"$f":"曲げ耐力!G65","v":"-"},{"$f":"曲げ耐力!H65","v":32.372520831265014},{"$f":"曲げ耐力!I65","v":52.73322313950348},{"$f":"F65/(曲げ耐力!$C$4/100*(曲げ耐力!$C$3/100)^2*曲げ耐力!$C$6*曲げ耐力!$C$5*1000)","v":4.9784451765689554E-2},{"$f":"E65/曲げ耐力!$C$3","v":1.0790840277088338},null,120.59413294164469,2151.6055130353839,22.580332427263258,0,2151.6055130353839,999]
[null,{"$f":"曲げ耐力!E66","v":3100},{"$f":"曲げ耐力!F66","v":0.87799564270152519},{"$f":"曲げ耐力!G66","v":"-"},{"$f":"曲げ耐力!H66","v":33.147953138291541},{"$f":"曲げ耐力!I66","v":47.606796703762029},{"$f":"F66/(曲げ耐力!$C$4/100*(曲げ耐力!$C$3/100)^2*曲げ耐力!$C$6*曲げ耐力!$C$5*1000)","v":4.4944688246107943E-2},{"$f":"E66/曲げ耐力!$C$3","v":1.1049317712763846},null,119.20316062661874,2186.8780621015376,22.950547562837603,0,2186.8780621015376,999]
[null,{"$f":"曲げ耐力!E67","v":3150},{"$f":"曲げ耐力!F67","v":0.8921568627450982},{"$f":"曲げ耐力!G67","v":"-"},{"$f":"曲げ耐力!H67","v":34.017201445275134},{"$f":"曲げ耐力!I67","v":42.435701736801889},{"$f":"F67/(曲げ耐力!$C$4/100*(曲げ耐力!$C$3/100)^2*曲げ耐力!$C$6*曲げ耐力!$C$5*1000)","v":4.0062753999885584E-2},{"$f":"E67/曲げ耐力!$C$3","v":1.1339067148425044},null,117.70386713243252,2222.1506111676917,23.320905749082566,0,2222.1506111676917,999]
[null,{"$f":"曲げ耐力!E68","v":3200},{"$f":"曲げ耐力!F68","v":0.90631808278867121},{"$f":"曲げ耐力!G68","v":"-"},{"$f":"曲げ耐力!H68","v":35.005128564734477},{"$f":"曲げ耐力!I68","v":37.213535034438905},{"$f":"F68/(曲げ耐力!$C$4/100*(曲げ耐力!$C$3/100)^2*曲げ耐力!$C$6*曲げ耐力!$C$5*1000)","v":3.5132603881460112E-2},{"$f":"E68/曲げ耐力!$C$3","v":1.1668376188244827},null,116.09668124673908,2257.4231602338455,23.691120884656904,0,2257.4231602338455,999]
[null,{"$f":"曲げ耐力!E69","v":3250},{"$f":"曲げ耐力!F69","v":0.92047930283224422},{"$f":"曲げ耐力!G69","v":"-"},{"$f":"曲げ耐力!H69","v":36.14815847962587},{"$f":"曲げ耐力!I69","v":31.932084278371121},{"$f":"F69/(曲げ耐力!$C$4/100*(曲げ耐力!$C$3/100)^2*曲げ耐力!$C$6*曲げ耐力!$C$5*1000)","v":3.0146484794395394E-2},{"$f":"E69/曲げ耐力!$C$3","v":1.204938615987529},null,114.37975086235915,2292.6957092999992,24.061336020231245,0,2292.6957092999992,999]
[null,{"$f":"曲げ耐力!E70","v":3300},{"$f":"曲げ耐力!F70","v":0.93464052287581723},{"$f":"曲げ耐力!G70","v":"-"},{"$f":"曲げ耐力!H70","v":37.50291744259011},{"$f":"曲げ耐力!I70","v":26.580527307952593},{"$f":"F70/(曲げ耐力!$C$4/100*(曲げ耐力!$C$3/100)^2*曲げ耐力!$C$6*曲げ耐力!$C$5*1000)","v":2.5094179738807822E-2},{"$f":"E70/曲げ耐力!$C$3","v":1.250097248086337},null,112.55581068985288,2327.9682583661533,24.431694206476212,0,2327.9682583661533,999]
[null,{"$f":"曲げ耐力!E71","v":3350},{"$f":"曲げ耐力!F71","v":0.94880174291939012},{"$f":"曲げ耐力!G71","v":"-"},{"$f":"曲げ耐力!H71","v":39.164757000240527},{"$f":"曲げ耐力!I71","v":21.143209974189858},{"$f":"F71/(曲げ耐力!$C$4/100*(曲げ耐力!$C$3/100)^2*曲げ耐力!$C$6*曲げ耐力!$C$5*1000)","v":1.9960909924797977E-2},{"$f":"E71/曲げ耐力!$C$3","v":1.3054919000080176},null,110.62150927632763,2363.2408074323071,24.80190934205055,0,2363.2408074323071,999]
[null,{"$f":"曲げ耐力!E72","v":3400},{"$f":"曲げ耐力!F72","v":0.96296296296296313},{"$f":"曲げ耐力!G72","v":"-"},{"$f":"曲げ耐力!H72","v":41.31532826577952},{"$f":"曲げ耐力!I72","v":15.596628251670495},{"$f":"F72/(曲げ耐力!$C$4/100*(曲げ耐力!$C$3/100)^2*曲げ耐力!$C$6*曲げ耐力!$C$5*1000)","v":1.4724485640647525E-2},{"$f":"E72/曲げ耐力!$C$3","v":1.3771776088593173},null,108.57875269107785,2398.5133564984608,25.172124477624902,0,2398.5133564984608,999]
[null,{"$f":"曲げ耐力!E73","v":3450},{"$f":"曲げ耐力!F73","v":0.97712418300653614},{"$f":"曲げ耐力!G73","v":"-"},{"$f":"曲げ耐力!H73","v":44.378513240253149},{"$f":"曲げ耐力!I73","v":9.8983283501555661},{"$f":"F73/(曲げ耐力!$C$4/100*(曲げ耐力!$C$3/100)^2*曲げ耐力!$C$6*曲げ耐力!$C$5*1000)","v":9.3448270553393147E-3},{"$f":"E73/曲げ耐力!$C$3","v":1.4792837746751049},null,106.42948023589247,2433.7859055646145,25.542482663869858,0,2433.7859055646145,999]
[null,{"$f":"曲げ耐力!E74","v":3500},{"$f":"曲げ耐力!F74","v":0.99128540305010915},{"$f":"曲げ耐力!G74","v":"-"},{"$f":"曲げ耐力!H74","v":49.912756488264854},{"$f":"曲げ耐力!I74","v":3.9532639422106968},{"$f":"F74/(曲げ耐力!$C$4/100*(曲げ耐力!$C$3/100)^2*曲げ耐力!$C$6*曲げ耐力!$C$5*1000)","v":3.7322027050645645E-3},{"$f":"E74/曲げ耐力!$C$3","v":1.6637585496088285},null,104.16896814961376,2469.0584546307687,25.912697799444196,0,2469.0584546307687,999]
[null,{"$f":"曲げ耐力!E75","v":3530.7692307692305},{"$f":"曲げ耐力!F75","v":1.0000000000000002},{"$f":"曲げ耐力!G75","v":"-"},{"$f":"曲げ耐力!H75","v":69.507415424291196},{"$f":"曲げ耐力!I75","v":-9.2557391099035158E-5},{"$f":"F75/(曲げ耐力!$C$4/100*(曲げ耐力!$C$3/100)^2*曲げ耐力!$C$6*曲げ耐力!$C$5*1000)","v":-8.7381705467498696E-8},{"$f":"E75/曲げ耐力!$C$3","v":2.3169138474763731},null,101.80071821590445,2504.3310036969224,26.282912935018544,0,2504.3310036969224,999]
[null,null,null,null,null,null,null,null,null,99.324275712642248,2539.6035527630761,26.653128070592878,0,2539.6035527630761,999]
[null,null,null,null,null,null,null,null,null,96.738090265774929,2574.8761018292298,27.023343206167215,0,2574.8761018292298,999]
[null,null,null,null,null,null,null,null,null,94.045002871327426,2610.148650895384,27.393701392412183,0,2610.148650895384,999]
[null,null,null,null,null,null,null,null,null,91.241796420836124,2645.4211999615377,27.76391652798652,0,2645.4211999615377,999]
[null,null,null,null,null,null,null,null,null,88.330458833263833,2680.6937490276914,28.134131663560868,0,2680.6937490276914,999]
[null,null,null,null,null,null,null,null,null,85.31161237114236,2715.9662980938451,28.504489849805825,0,2715.9662980938451,999]
[null,null,null,null,null,null,null,null,null,82.182124447925389,2751.2388471599993,28.874776510715485,0,2751.2388471599993,999]
[null,null,null,null,null,null,null,null,null,78.945345652639787,2786.511396226153,29.244991646289819,0,2786.511396226153,999]
[null,null,null,null,null,null,null,null,null,75.599589411747274,2821.7839452923067,29.615206781864167,0,2821.7839452923067,999]
[null,null,null,null,null,null,null,null,null,72.144258865107417,2857.0564943584609,29.985421917438504,0,2857.0564943584609,999]
[null,null,null,null,null,null,null,null,null,68.625655675575274,2892.3290434246146,30.365078397274015,0,2892.3290434246146,999]
[null,null,null,null,null,null,null,null,null,65.094032552417218,2927.6015924907683,30.766764680385588,0,2927.6015924907683,999]
[null,null,null,null,null,null,null,null,null,61.546549334745578,2962.874141556922,31.192769577503199,0,2962.874141556922,999]
[null,null,null,null,null,null,null,null,null,57.982129478287845,2998.1466906230762,31.646240203380582,0,2998.1466906230762,999]
[null,null,null,null,null,null,null,null,null,54.399959167206816,3033.4192396892299,32.130609774112706,0,3033.4192396892299,999]
[null,null,null,null,null,null,null,null,null,50.798047848690317,3068.6917887553836,32.650169809818266,0,3068.6917887553836,999]
[null,null,null,null,null,null,null,null,null,47.175823248143047,3103.9643378215374,33.210642337322227,0,3103.9643378215374,999]
[null,null,null,null,null,null,null,null,null,43.532578147411186,3139.2368868876915,33.818607687473303,0,3139.2368868876915,999]
[null,null,null,null,null,null,null,null,null,39.862649923355548,3174.5094359538452,34.482076697826386,0,3174.5094359538452,999]
[null,null,null,null,null,null,null,null,null,36.167181506448514,3209.781985019999,35.212493422031407,0,3209.781985019999,999]
[null,null,null,null,null,null,null,null,null,32.440630536088975,3245.0545340861527,36.024162927150726,0,3245.0545340861527,999]
[null,null,null,null,null,null,null,null,null,28.679651567951851,3280.3270831523068,36.936826205730434,0,3280.3270831523068,999]
[null,null,null,null,null,null,null,null,null,24.880052849990875,3315.5996322184606,37.979379493236543,0,3315.5996322184606,999]
[null,null,null,null,null,null,null,null,null,21.035173217891497,3350.8721812846143,39.194451889514923,0,3350.8721812846143,999]
[null,null,null,null,null,null,null,null,null,17.135127358919931,3386.1447303507684,40.650421615123747,0,3386.1447303507684,999]
[null,null,null,null,null,null,null,null,null,13.168340570991177,3421.4172794169222,42.469740044116975,0,3421.4172794169222,999]
[null,null,null,null,null,null,null,null,null,9.1124294041699159,3456.6898284830759,44.905034660816199,0,3456.6898284830759,999]
[null,null,null,null,null,null,null,null,null,4.9279044471479665,3491.9623775492296,48.658112055301658,0,3491.9623775492296,999]
[null,null,null,null,null,null,null,null,null,0.48518762905814583,3527.2349266153838,59.078924258232121,0,3527.2349266153838,999]